BEGIN:VCALENDAR
VERSION:2.0
PRODID:-//Spouse-ly University - ECPv6.15.20//NONSGML v1.0//EN
CALSCALE:GREGORIAN
METHOD:PUBLISH
X-WR-CALNAME:Spouse-ly University
X-ORIGINAL-URL:https://spouselyu.com
X-WR-CALDESC:Events for Spouse-ly University
REFRESH-INTERVAL;VALUE=DURATION:PT1H
X-Robots-Tag:noindex
X-PUBLISHED-TTL:PT1H
BEGIN:VTIMEZONE
TZID:UTC
BEGIN:STANDARD
TZOFFSETFROM:+0000
TZOFFSETTO:+0000
TZNAME:UTC
DTSTART:20210101T000000
END:STANDARD
END:VTIMEZONE
BEGIN:VEVENT
DTSTART;TZID=UTC:20221026T150000
DTEND;TZID=UTC:20221029T170000
DTSTAMP:20260420T042005
CREATED:20220203T012010Z
LAST-MODIFIED:20220221T181547Z
UID:421-1666796400-1667062800@spouselyu.com
SUMMARY:Military Influencer Conference
DESCRIPTION:Learn how you can sell on Spouse-ly and create or grow your online business!
URL:https://spouselyu.com/calendar/selling-on-spouse-ly-webinar-3/
LOCATION:Las Vegas October 26-29\, 3000 S Las Vegas Blvd\, Las Vegas\, NV\, 89109\, United States
ATTACH;FMTTYPE=image/png:https://spouselyu.com/wp-content/uploads/2022/02/Screen-Shot-2022-02-21-at-10.07.09-AM.png
END:VEVENT
END:VCALENDAR